BEGIN:VCALENDAR
VERSION:2.0
PRODID:-//Centurion Systems - ECPv6.15.20//NONSGML v1.0//EN
CALSCALE:GREGORIAN
METHOD:PUBLISH
X-ORIGINAL-URL:https://www.centsys.co.za
X-WR-CALDESC:Events for Centurion Systems
REFRESH-INTERVAL;VALUE=DURATION:PT1H
X-Robots-Tag:noindex
X-PUBLISHED-TTL:PT1H
BEGIN:VTIMEZONE
TZID:Africa/Johannesburg
BEGIN:STANDARD
TZOFFSETFROM:+0200
TZOFFSETTO:+0200
TZNAME:SAST
DTSTART:20240101T000000
END:STANDARD
END:VTIMEZONE
BEGIN:VEVENT
DTSTART;TZID=Africa/Johannesburg:20250926T090000
DTEND;TZID=Africa/Johannesburg:20250926T110000
DTSTAMP:20260421T232045
CREATED:20250908T134512Z
LAST-MODIFIED:20251111T111411Z
UID:31035-1758877200-1758884400@www.centsys.co.za
SUMMARY:Centurion Systems Online Training: RDO Digital Programming 26.09.2025
DESCRIPTION:The future of Access Automation is here: get to know more about the experience with this course on programming the RDO Digital! \nSet the foundation with this in-depth product training course. \nTo register for this Online Training Session: CLICK HERE \nPlease note that all training sessions are based on South African Standard Time [UTC+2:00] \nNB: Remember to register with an active email address that you have access to in order to receive event details.
URL:https://www.centsys.co.za/event/centurion-systems-online-training-rdo-digital-programming-26-09-2025/
LOCATION:On-Line Centurion Systems Training Solutions\, Unit 13 Northlands Production Park Intersection of Epsom Avenue & Newmarket Road\, North Riding\, Gauteng\, South Africa
CATEGORIES:CTSI CAPE TOWN
ORGANIZER;CN="CENTURION SYSTEMS":MAILTO:Training@CenturionSystems.co.za
END:VEVENT
END:VCALENDAR