BEGIN:VCALENDAR
VERSION:2.0
PRODID:-//Centurion Systems - ECPv6.15.20//NONSGML v1.0//EN
CALSCALE:GREGORIAN
METHOD:PUBLISH
X-WR-CALNAME:Centurion Systems
X-ORIGINAL-URL:https://www.centsys.co.za
X-WR-CALDESC:Events for Centurion Systems
REFRESH-INTERVAL;VALUE=DURATION:PT1H
X-Robots-Tag:noindex
X-PUBLISHED-TTL:PT1H
BEGIN:VTIMEZONE
TZID:Africa/Johannesburg
BEGIN:STANDARD
TZOFFSETFROM:+0200
TZOFFSETTO:+0200
TZNAME:SAST
DTSTART:20250101T000000
END:STANDARD
END:VTIMEZONE
BEGIN:VEVENT
DTSTART;TZID=Africa/Johannesburg:20260519T090000
DTEND;TZID=Africa/Johannesburg:20260519T110000
DTSTAMP:20260421T123052
CREATED:20260410T122809Z
LAST-MODIFIED:20260410T122809Z
UID:32152-1779181200-1779188400@www.centsys.co.za
SUMMARY:Centurion Systems Online Training: SECTOR II Introduction and Installation [Session One] 19.05.2026
DESCRIPTION:The future of Access Automation Education is here: get to know more about how to secure and manage your commercial entrances with CENTURION’s traffic barrier solutions by learning about the Traffic Controls Systems Range! \nSet the foundation with this in-depth product training course. \nPlease note that all training sessions are based on South African Standard Time [UTC+2:00] \nNB: Remember to register with an active email address that you have access to in order to receive event details. \nTo register for this Online Training session\, CLICK HERE \nAll Training Sessions are conducted using the Microsoft Teams app and are only conducted in English. \nNB: Remember to register with an active email address that you have access to in order to receive event details. \nNB: Remember to check your spam folder to be sure that you have received the registration confirmation email.
URL:https://www.centsys.co.za/event/centurion-systems-online-training-sector-ii-introduction-and-installation-session-one-19-05-2026/
LOCATION:On-Line Centurion Systems Training Solutions\, Unit 13 Northlands Production Park Intersection of Epsom Avenue & Newmarket Road\, North Riding\, Gauteng\, South Africa
CATEGORIES:On-line Training
ORGANIZER;CN="CENTURION SYSTEMS":MAILTO:Training@CenturionSystems.co.za
END:VEVENT
BEGIN:VEVENT
DTSTART;TZID=Africa/Johannesburg:20260519T130000
DTEND;TZID=Africa/Johannesburg:20260519T150000
DTSTAMP:20260421T123052
CREATED:20260410T122940Z
LAST-MODIFIED:20260410T122940Z
UID:32154-1779195600-1779202800@www.centsys.co.za
SUMMARY:Centurion Systems Online Training: SECTOR II Wiring and Programming [Session Two] 19.05.2026
DESCRIPTION:The future of Access Automation Education is here: get to know more about how to secure and manage your commercial entrances with CENTURION’s traffic barrier solutions by learning about the Traffic Controls Systems Range! \nSet the foundation with this in-depth product training course. \nPlease note that all training sessions are based on South African Standard Time [UTC+2:00] \nNB: Remember to register with an active email address that you have access to in order to receive event details. \nTo register for this Online Training session\, CLICK HERE \nAll Training Sessions are conducted using the Microsoft Teams app and are only conducted in English. \nNB: Remember to register with an active email address that you have access to in order to receive event details. \nNB: Remember to check your spam folder to be sure that you have received the registration confirmation email.
URL:https://www.centsys.co.za/event/centurion-systems-online-training-sector-ii-wiring-and-programming-session-two-19-05-2026/
LOCATION:On-Line Centurion Systems Training Solutions\, Unit 13 Northlands Production Park Intersection of Epsom Avenue & Newmarket Road\, North Riding\, Gauteng\, South Africa
CATEGORIES:On-line Training
ORGANIZER;CN="CENTURION SYSTEMS":MAILTO:Training@CenturionSystems.co.za
END:VEVENT
END:VCALENDAR