BEGIN:VCALENDAR
VERSION:2.0
PRODID:-//Centurion Systems - ECPv6.15.20//NONSGML v1.0//EN
CALSCALE:GREGORIAN
METHOD:PUBLISH
X-ORIGINAL-URL:https://www.centsys.co.za
X-WR-CALDESC:Events for Centurion Systems
REFRESH-INTERVAL;VALUE=DURATION:PT1H
X-Robots-Tag:noindex
X-PUBLISHED-TTL:PT1H
BEGIN:VTIMEZONE
TZID:Africa/Johannesburg
BEGIN:STANDARD
TZOFFSETFROM:+0200
TZOFFSETTO:+0200
TZNAME:SAST
DTSTART:20250101T000000
END:STANDARD
END:VTIMEZONE
BEGIN:VEVENT
DTSTART;TZID=Africa/Johannesburg:20260604T090000
DTEND;TZID=Africa/Johannesburg:20260604T110000
DTSTAMP:20260421T135056
CREATED:20260420T053747Z
LAST-MODIFIED:20260420T053747Z
UID:32219-1780563600-1780570800@www.centsys.co.za
SUMMARY:Centurion Systems Online Training: Smart Sliding Gate Motor Series [Session 4] 04.06.2026
DESCRIPTION:Start your journey by learning the fundamentals of the SMART Sliding Gate Motor Series. \nSet the foundation with this in-depth product training course. \nTo register for this Online Training Session: CLICK HERE \nPlease note that all training sessions are based on South African Standard Time [UTC+2:00] \nNB: Remember to register with an active email address that you have access to in order to receive event details. \nNB: Remember to check your spam folder to be sure that you have received the registration confirmation email.
URL:https://www.centsys.co.za/event/centurion-systems-online-training-smart-sliding-gate-motor-series-session-4-04-06-2026/
LOCATION:On-Line Centurion Systems Training Solutions\, Unit 13 Northlands Production Park Intersection of Epsom Avenue & Newmarket Road\, North Riding\, Gauteng\, South Africa
CATEGORIES:On-line Training
ORGANIZER;CN="CENTURION SYSTEMS":MAILTO:Training@CenturionSystems.co.za
END:VEVENT
BEGIN:VEVENT
DTSTART;TZID=Africa/Johannesburg:20260604T130000
DTEND;TZID=Africa/Johannesburg:20260604T150000
DTSTAMP:20260421T135056
CREATED:20260420T053908Z
LAST-MODIFIED:20260420T053908Z
UID:32221-1780578000-1780585200@www.centsys.co.za
SUMMARY:Centurion Systems Online Training: Smart Sliding Gate Motor Series [Session 5] 04.06.2026
DESCRIPTION:Start your journey by learning the fundamentals of the SMART Sliding Gate Motor Series. \nSet the foundation with this in-depth product training course. \nTo register for this Online Training Session: CLICK HERE \nPlease note that all training sessions are based on South African Standard Time [UTC+2:00] \nNB: Remember to register with an active email address that you have access to in order to receive event details. \nNB: Remember to check your spam folder to be sure that you have received the registration confirmation email.
URL:https://www.centsys.co.za/event/centurion-systems-online-training-smart-sliding-gate-motor-series-session-5-04-06-2026/
LOCATION:On-Line Centurion Systems Training Solutions\, Unit 13 Northlands Production Park Intersection of Epsom Avenue & Newmarket Road\, North Riding\, Gauteng\, South Africa
CATEGORIES:On-line Training
ORGANIZER;CN="CENTURION SYSTEMS":MAILTO:Training@CenturionSystems.co.za
END:VEVENT
END:VCALENDAR