BEGIN:VCALENDAR
VERSION:2.0
PRODID:-//Centurion Systems - ECPv6.15.20//NONSGML v1.0//EN
CALSCALE:GREGORIAN
METHOD:PUBLISH
X-WR-CALNAME:Centurion Systems
X-ORIGINAL-URL:https://www.centsys.co.za
X-WR-CALDESC:Events for Centurion Systems
REFRESH-INTERVAL;VALUE=DURATION:PT1H
X-Robots-Tag:noindex
X-PUBLISHED-TTL:PT1H
BEGIN:VTIMEZONE
TZID:Africa/Johannesburg
BEGIN:STANDARD
TZOFFSETFROM:+0200
TZOFFSETTO:+0200
TZNAME:SAST
DTSTART:20250101T000000
END:STANDARD
END:VTIMEZONE
BEGIN:VEVENT
DTSTART;TZID=Africa/Johannesburg:20260526T090000
DTEND;TZID=Africa/Johannesburg:20260526T110000
DTSTAMP:20260421T154051
CREATED:20260420T052259Z
LAST-MODIFIED:20260420T052259Z
UID:32206-1779786000-1779793200@www.centsys.co.za
SUMMARY:Centurion Systems Online Training: Basics of Sliding Gate Automation 26.05.2026
DESCRIPTION:Start your journey by learning the fundamentals of the fast-growing and exciting field of gate automation. \nSet the foundation with this in-depth product training course. \nTo register for this Online Training Session: CLICK HERE \nPlease note that all training sessions are based on South African Standard Time [UTC+2:00] \nNB: Remember to register with an active email address that you have access to in order to receive event details. \nNB: Remember to check your spam folder to be sure that you have received the registration confirmation email. \nNB: ALL sessions in a series need to be registered and attended in order to complete the course.
URL:https://www.centsys.co.za/event/centurion-systems-online-training-basics-of-sliding-gate-automation-26-05-2026/
LOCATION:On-Line Centurion Systems Training Solutions\, Unit 13 Northlands Production Park Intersection of Epsom Avenue & Newmarket Road\, North Riding\, Gauteng\, South Africa
CATEGORIES:On-line Training
ORGANIZER;CN="CENTURION SYSTEMS":MAILTO:Training@CenturionSystems.co.za
END:VEVENT
BEGIN:VEVENT
DTSTART;TZID=Africa/Johannesburg:20260526T130000
DTEND;TZID=Africa/Johannesburg:20260526T150000
DTSTAMP:20260421T154051
CREATED:20260420T052432Z
LAST-MODIFIED:20260420T052432Z
UID:32208-1779800400-1779807600@www.centsys.co.za
SUMMARY:Centurion Systems Online Training: Basics of Swing Gate Automation 26.05.2026
DESCRIPTION:Start your journey by learning the fundamentals of the fast-growing and exciting field of gate automation. \nSet the foundation with this in-depth product training course. \nTo register for this Online Training Session: CLICK HERE \nPlease note that all training sessions are based on South African Standard Time [UTC+2:00] \nNB: Remember to register with an active email address that you have access to in order to receive event details. \nNB: Remember to check your spam folder to be sure that you have received the registration confirmation email. \nNB: ALL sessions in a series need to be registered and attended in order to complete the course.
URL:https://www.centsys.co.za/event/centurion-systems-online-training-basics-of-swing-gate-automation-26-05-2026/
LOCATION:On-Line Centurion Systems Training Solutions\, Unit 13 Northlands Production Park Intersection of Epsom Avenue & Newmarket Road\, North Riding\, Gauteng\, South Africa
CATEGORIES:On-line Training
ORGANIZER;CN="CENTURION SYSTEMS":MAILTO:Training@CenturionSystems.co.za
END:VEVENT
END:VCALENDAR